BEGIN:VCALENDAR
VERSION:2.0
PRODID:-//wp-events-plugin.com//7.2.3.1//EN
BEGIN:VEVENT
UID:1@middlesexschoolofcricket.co.uk
DTSTART:20241031T000000Z
DTEND:20241031T000000Z
DTSTAMP:20241025T185215Z
URL:https://www.middlesexschoolofcricket.co.uk/events/upcoming-event/
SUMMARY:Upcoming Event
DESCRIPTION:Coming Soon
END:VEVENT
END:VCALENDAR